BEGIN:VCALENDAR
VERSION:2.0
PRODID:-//ChamberMaster//Event Calendar 2.0//EN
METHOD:PUBLISH
X-PUBLISHED-TTL:P3D
REFRESH-INTERVAL:P3D
CALSCALE:GREGORIAN
BEGIN:VEVENT
DTSTART:20231109T230000Z
DTEND:20231110T000000Z
X-MICROSOFT-CDO-ALLDAYEVENT:FALSE
SUMMARY:Dynamic Connections
DESCRIPTION:The new WRCC leads group is a referral group that empowers business owners and their representatives to work together and learn from each other. Through this we will boost each other's success and positively impact our communities.\n\nThere is  business-category-exclusivity and meets the 2nd Thursday of each month at 4:00 p.m. at the Chamber Office.
X-ALT-DESC;FMTTYPE=text/html:<span style="box-sizing: border-box\; color: rgb(68\, 68\, 68)\; font-family: Lato\, sans-serif\; font-size: 16px\; background-image: initial\; background-position: initial\; background-size: initial\; background-repeat: initial\; background-attachment: initial\; background-origin: initial\; background-clip: initial\;"><span style="box-sizing: border-box\; color: rgb(110\, 110\, 110)\;"><span style="box-sizing: border-box\; font-family: arial\, sans-serif\;">The new WRCC leads group is a referral group that empowers business owners and their representatives to work together and learn from each other. Through this we will boost each other&#39\;s success and positively impact our communities.</span></span></span><br style="box-sizing: border-box\; color: rgb(68\, 68\, 68)\; font-family: Lato\, sans-serif\; font-size: 16px\;" />\n<span style="box-sizing: border-box\; color: rgb(68\, 68\, 68)\; font-family: Lato\, sans-serif\; font-size: 16px\; background-image: initial\; background-position: initial\; background-size: initial\; background-repeat: initial\; background-attachment: initial\; background-origin: initial\; background-clip: initial\;"><span style="box-sizing: border-box\; color: rgb(110\, 110\, 110)\;"><span style="box-sizing: border-box\; font-family: arial\, sans-serif\;">There is&nbsp\; business-category-exclusivity and meets the 2nd</span></span></span><span style="box-sizing: border-box\; color: rgb(68\, 68\, 68)\; font-family: Lato\, sans-serif\; font-size: 16px\; background-image: initial\; background-position: initial\; background-size: initial\; background-repeat: initial\; background-attachment: initial\; background-origin: initial\; background-clip: initial\;"><span style="box-sizing: border-box\; color: rgb(110\, 110\, 110)\;"><span style="box-sizing: border-box\; font-family: arial\, sans-serif\;">&nbsp\;Thursday of each month at 4:00 p.m. at the Chamber Office.</span></span></span>
LOCATION:7230 W 38th Ave
UID:e.2691.5338
SEQUENCE:3
DTSTAMP:20260421T060116Z
URL:http://wheatridgechamberco.chambermaster.com/events/details/dynamic-connections-5338
END:VEVENT

END:VCALENDAR
